BEGIN:VCALENDAR
PRODID:-//eluceo/ical//2.0/EN
VERSION:2.0
CALSCALE:GREGORIAN
BEGIN:VEVENT
UID:event-783
DTSTAMP:20260424T102358Z
SUMMARY:DIES-week
DESCRIPTION:De DIES-week is de verjaardagsweek van de MFVU. De verjaardag v
 an de vereniging is op 8 oktober\, dit moet natuurlijk uitgebreid gevierd 
 worden. Daarom organiseren we een hele week vol met leuke activiteiten. We
  hopen jou daar natuurlijk ook te zien!
DTSTART:20231003T220000Z
DTEND:20231012T220000Z
END:VEVENT
BEGIN:VTIMEZONE
TZID:UTC
BEGIN:STANDARD
DTSTART:20231003T220000
TZNAME:UTC
TZOFFSETTO:+0000
TZOFFSETFROM:+0000
END:STANDARD
END:VTIMEZONE
END:VCALENDAR
