BEGIN:VCALENDAR
PRODID:-//eluceo/ical//2.0/EN
VERSION:2.0
CALSCALE:GREGORIAN
BEGIN:VEVENT
UID:event-775
DTSTAMP:20260422T051123Z
SUMMARY:Inthrowbackborrel
DESCRIPTION:Ook deze woensdag is het tijd voor een mega gezellige borrel wa
 ar de barcommissie je voorziet van een drankje en veel gezelligheid. Je be
 nt vanaf 16:30 welkom om een drankje te doen. Rond 18:00 gaan we eten en a
 ls je EHO hebt mag je als eerste eten\, dus kom ook dan vooral langs. Haal
  online een kaartje om mee te eten voor de woensdag van de borrel zelf om 
 14:00.  Hopelijk zien we je woensdag! Liefs\,  de barcommissie!
DTSTART:20231213T153000Z
DTEND:20231213T204500Z
END:VEVENT
BEGIN:VTIMEZONE
TZID:UTC
BEGIN:STANDARD
DTSTART:20231213T153000
TZNAME:UTC
TZOFFSETTO:+0000
TZOFFSETFROM:+0000
END:STANDARD
END:VTIMEZONE
END:VCALENDAR
